BEGIN:VCALENDAR
VERSION:2.0
PRODID:-//FacFox - ECPv6.15.20//NONSGML v1.0//EN
CALSCALE:GREGORIAN
METHOD:PUBLISH
X-ORIGINAL-URL:https://facfox.com
X-WR-CALDESC:Events for FacFox
REFRESH-INTERVAL;VALUE=DURATION:PT1H
X-Robots-Tag:noindex
X-PUBLISHED-TTL:PT1H
BEGIN:VTIMEZONE
TZID:Asia/Shanghai
BEGIN:STANDARD
TZOFFSETFROM:+0800
TZOFFSETTO:+0800
TZNAME:CST
DTSTART:20240101T000000
END:STANDARD
END:VTIMEZONE
BEGIN:VEVENT
DTSTART;TZID=Asia/Shanghai:20251001T000000
DTEND;TZID=Asia/Shanghai:20251008T233000
DTSTAMP:20260421T235717
CREATED:20250107T155650Z
LAST-MODIFIED:20250108T152406Z
UID:10000005-1759276800-1759966200@facfox.com
SUMMARY:2025 National Day + Mid-autumn Festival
DESCRIPTION:
URL:https://facfox.com/event/2025-national-day-mid-autumn-festival/
CATEGORIES:Holidays
END:VEVENT
END:VCALENDAR