BEGIN:VCALENDAR
VERSION:2.0
PRODID:-//FacFox - ECPv6.15.20//NONSGML v1.0//EN
CALSCALE:GREGORIAN
METHOD:PUBLISH
X-WR-CALNAME:FacFox
X-ORIGINAL-URL:https://facfox.com
X-WR-CALDESC:Events for FacFox
REFRESH-INTERVAL;VALUE=DURATION:PT1H
X-Robots-Tag:noindex
X-PUBLISHED-TTL:PT1H
BEGIN:VTIMEZONE
TZID:Asia/Shanghai
BEGIN:STANDARD
TZOFFSETFROM:+0800
TZOFFSETTO:+0800
TZNAME:CST
DTSTART:20240101T000000
END:STANDARD
END:VTIMEZONE
BEGIN:VEVENT
DTSTART;TZID=Asia/Shanghai:20250404T000000
DTEND;TZID=Asia/Shanghai:20250406T233000
DTSTAMP:20260422T082159
CREATED:20250107T154909Z
LAST-MODIFIED:20250108T152410Z
UID:10000002-1743724800-1743982200@facfox.com
SUMMARY:2025 Qingming Festival
DESCRIPTION:
URL:https://facfox.com/event/2025-qingming-festival/
CATEGORIES:Holidays
END:VEVENT
END:VCALENDAR